BEGIN:VCALENDAR
VERSION:2.0
PRODID:-//https://kilta.erto.fi///Tapahtumakalenteri//FI
CALSCALE:GREGORIAN
BEGIN:VEVENT
SUMMARY:Työhaastatteluun valmistautuminen -verkkokoulutus
UID:1750
DTSTART:20260411T100000
DTEND:20260411T140000
DTSTAMP:20260319T193556
LOCATION:Teams
DESCRIPTION:Työnhakuun liittyy myös haastattelu. Mitä haastatteluun valmistautumisessa on otettava huomioon?  Ystean järjestämään verkkokoulutukseen voivat osallistua kaikki Erton jäsenet.\n\nhttps://kilta.erto.fi/Tapahtumanhallinta/tapahtumatiedot.aspx?id=1750
END:VEVENT
END:VCALENDAR
