BEGIN:VCALENDAR
VERSION:2.0
PRODID:-//https://kilta.erto.fi///Tapahtumakalenteri//FI
CALSCALE:GREGORIAN
BEGIN:VEVENT
SUMMARY:Unentaidot Teams-luento
UID:1800
DTSTART:20260527T170000
DTEND:20260527T190000
DTSTAMP:20260417T081913
DESCRIPTION:Erityistoimihenkilöt ETry järjestää Teams-luennon unentaidoista – luento on tarkoitettu kaikkien Erton jäsenyhdistysten jäsenille.\n\nhttps://kilta.erto.fi/Tapahtumanhallinta/tapahtumatiedot.aspx?id=1800
END:VEVENT
END:VCALENDAR
