BEGIN:VCALENDAR
VERSION:2.0
PRODID:-//https://kilta.erto.fi///Tapahtumakalenteri//FI
CALSCALE:GREGORIAN
BEGIN:VEVENT
SUMMARY:Hemmotteluviikonloppu Tallinnaan Ystean henkilöstöedustajille
UID:1803
DTSTART:20260821T140000
DTEND:20260823T150000
DTSTAMP:20260419T220354
LOCATION:Randvere tee 11, Viimsi 74001
DESCRIPTION:Hemmotteluviikonloppu Tallinnaan Ystean henkilöstöedustajille\n\nhttps://kilta.erto.fi/Tapahtumanhallinta/tapahtumatiedot.aspx?id=1803
END:VEVENT
END:VCALENDAR
