BEGIN:VCALENDAR
VERSION:2.0
PRODID:-//https://kilta.erto.fi///Tapahtumakalenteri//FI
CALSCALE:GREGORIAN
BEGIN:VEVENT
SUMMARY:Aivoergonomia ja stressin hallinta
UID:1805
DTSTART:20260522T090000
DTEND:20260522T100000
DTSTAMP:20260421T141603
LOCATION:Webinaari
DESCRIPTION:Webinaarissa syvennytään aivoergonomiaan ja stressin hallintaan työelämässä.\n\nhttps://kilta.erto.fi/Tapahtumanhallinta/tapahtumatiedot.aspx?id=1805
END:VEVENT
END:VCALENDAR
