BEGIN:VCALENDAR
VERSION:2.0
PRODID:-//https://kilta.erto.fi///Tapahtumakalenteri//FI
CALSCALE:GREGORIAN
BEGIN:VEVENT
SUMMARY:TJS-työhyvinvointiwebinaari: Neuropsykiatriset piirteet työelämässä  – ymmärrystä, keinoja ja armollisuutta arkeen
UID:1806
DTSTART:20260910T170000
DTEND:20260910T180000
DTSTAMP:20260421T151627
LOCATION:Webinaari
DESCRIPTION:Webinaarissa käsitellään neurokirjon ja mielenterveyden välistä yhteyttä ja kuinka kirjolla oleminen vaikuttaa työntekoon ja arkeen. Lisäksi tuodaan esiin keinoja tukea neurokirjon omaavia sekä kehittää työyhteisöä.\n\nhttps://kilta.erto.fi/Tapahtumanhallinta/tapahtumatiedot.aspx?id=1806
END:VEVENT
END:VCALENDAR
