BEGIN:VCALENDAR
VERSION:2.0
PRODID:-//https://kilta.erto.fi///Tapahtumakalenteri//FI
CALSCALE:GREGORIAN
BEGIN:VEVENT
SUMMARY:LinkedIn perusteet – näkyväksi työnhaussa
UID:1807
DTSTART:20260827T170000
DTEND:20260827T183000
DTSTAMP:20260421T152918
LOCATION:Verkossa
DESCRIPTION:Koulutus sopii erityisesti LinkedInin vasta-alkajille sekä niille, joilla on profiili, mutta sen hyödyntäminen tuntuu vielä epävarmalta.\n\nhttps://kilta.erto.fi/Tapahtumanhallinta/tapahtumatiedot.aspx?id=1807
END:VEVENT
END:VCALENDAR
