BEGIN:VCALENDAR
VERSION:2.0
PRODID:-//https://kilta.erto.fi///Tapahtumakalenteri//FI
CALSCALE:GREGORIAN
BEGIN:VEVENT
SUMMARY:Työnhakuklinikka – yhdessä tekemisestä virtaa työnhakuun Ilmoittaudu koulutukseen
UID:1808
DTSTART:20260917T120000
DTEND:20260917T160000
DTSTAMP:20260421T153820
LOCATION:Verkossa
DESCRIPTION:Tässä fasilitoidussa työpajassa käytämme pomodoro tekniikkaa. Se on ajanhallintatekniikka, jonka avulla haastavaan tai raskaaseen tehtävään on helpompi ryhtyä ja lopputulos on parempi kuin yksin työskentelemällä.\n\nhttps://kilta.erto.fi/Tapahtumanhallinta/tapahtumatiedot.aspx?id=1808
END:VEVENT
END:VCALENDAR
