BEGIN:VCALENDAR
VERSION:2.0
PRODID:-//https://kilta.erto.fi///Tapahtumakalenteri//FI
CALSCALE:GREGORIAN
BEGIN:VEVENT
SUMMARY:Oman LinkedIn profiilin avainsanat ja löydettävyys rekrytoijalle
UID:1809
DTSTART:20261006T170000
DTEND:20261006T183000
DTSTAMP:20260422T143120
LOCATION:Verkossa
DESCRIPTION:Tässä koulutuksessa opit, millaisilla avainsanoilla nouset rekrytoijan hakutuloksissa oikealla tavalla esiin.\n\nhttps://kilta.erto.fi/Tapahtumanhallinta/tapahtumatiedot.aspx?id=1809
END:VEVENT
END:VCALENDAR
