BEGIN:VCALENDAR
VERSION:2.0
PRODID:-//https://kilta.erto.fi///Tapahtumakalenteri//FI
CALSCALE:GREGORIAN
BEGIN:VEVENT
SUMMARY:Osaamistarvekompassi ja osaamisperusteinen CV työnhaun tukena
UID:1810
DTSTART:20261022T170000
DTEND:20261022T180000
DTSTAMP:20260422T143424
LOCATION:Verkossa
DESCRIPTION:Tässä koulutuksessa opit, millaisilla avainsanoilla nouset rekrytoijan hakutuloksissa oikealla tavalla esiin.\n\nhttps://kilta.erto.fi/Tapahtumanhallinta/tapahtumatiedot.aspx?id=1810
END:VEVENT
END:VCALENDAR
