BEGIN:VCALENDAR
VERSION:2.0
PRODID:-//https://kilta.erto.fi///Tapahtumakalenteri//FI
CALSCALE:GREGORIAN
BEGIN:VEVENT
SUMMARY:LinkedIn i jobbsökandet
UID:1811
DTSTART:20261029T170000
DTEND:20261029T183000
DTSTAMP:20260422T144421
LOCATION:Teams
DESCRIPTION:Utbildningen ger en introduktion till LinkedIn och hjälper dig att förstå hur du kan använda LinkedIn för att synliggöra din kompetens, bygga ditt nätverk och stärka din professionella närvaro.\n\nhttps://kilta.erto.fi/Tapahtumanhallinta/tapahtumatiedot.aspx?id=1811
END:VEVENT
END:VCALENDAR
